BEGIN:VCALENDAR
VERSION:2.0
PRODID:-//stmatthewsufwbchurch - ECPv6.3.6//NONSGML v1.0//EN
CALSCALE:GREGORIAN
METHOD:PUBLISH
X-ORIGINAL-URL:https://stmatthewsufwbchurch.org
X-WR-CALDESC:Events for stmatthewsufwbchurch
REFRESH-INTERVAL;VALUE=DURATION:PT1H
X-Robots-Tag:noindex
X-PUBLISHED-TTL:PT1H
BEGIN:VTIMEZONE
TZID:America/New_York
BEGIN:DAYLIGHT
TZOFFSETFROM:-0500
TZOFFSETTO:-0400
TZNAME:EDT
DTSTART:20260308T070000
END:DAYLIGHT
BEGIN:STANDARD
TZOFFSETFROM:-0400
TZOFFSETTO:-0500
TZNAME:EST
DTSTART:20261101T060000
END:STANDARD
END:VTIMEZONE
BEGIN:VEVENT
DTSTART;TZID=America/New_York:20260907T180000
DTEND;TZID=America/New_York:20260907T190000
DTSTAMP:20260420T041929
CREATED:20260216T201157Z
LAST-MODIFIED:20260216T201157Z
UID:10002616-1788804000-1788807600@stmatthewsufwbchurch.org
SUMMARY:Physical Fitness Training Classes
DESCRIPTION:
URL:https://stmatthewsufwbchurch.org/event/physical-fitness-training-classes-2/2026-09-07
LOCATION:R.J. Gay Building\, 388 Dixwell Ave.\, New Haven\, CT\, 06511\, United States
ATTACH;FMTTYPE=image/jpeg:https://stmatthewsufwbchurch.org/wp-content/uploads/2024/05/Fitness-Flyer-Template-scaled.jpg
END:VEVENT
BEGIN:VEVENT
DTSTART;TZID=America/New_York:20260909T180000
DTEND;TZID=America/New_York:20260909T190000
DTSTAMP:20260420T041929
CREATED:20260216T201157Z
LAST-MODIFIED:20260216T201157Z
UID:10004926-1788976800-1788980400@stmatthewsufwbchurch.org
SUMMARY:Physical Fitness Training Classes
DESCRIPTION:
URL:https://stmatthewsufwbchurch.org/event/physical-fitness-training-classes-2/2026-09-09
LOCATION:R.J. Gay Building\, 388 Dixwell Ave.\, New Haven\, CT\, 06511\, United States
ATTACH;FMTTYPE=image/jpeg:https://stmatthewsufwbchurch.org/wp-content/uploads/2024/05/Fitness-Flyer-Template-scaled.jpg
END:VEVENT
BEGIN:VEVENT
DTSTART;TZID=America/New_York:20260914T180000
DTEND;TZID=America/New_York:20260914T190000
DTSTAMP:20260420T041929
CREATED:20260216T201157Z
LAST-MODIFIED:20260216T201157Z
UID:10002618-1789408800-1789412400@stmatthewsufwbchurch.org
SUMMARY:Physical Fitness Training Classes
DESCRIPTION:
URL:https://stmatthewsufwbchurch.org/event/physical-fitness-training-classes-2/2026-09-14
LOCATION:R.J. Gay Building\, 388 Dixwell Ave.\, New Haven\, CT\, 06511\, United States
ATTACH;FMTTYPE=image/jpeg:https://stmatthewsufwbchurch.org/wp-content/uploads/2024/05/Fitness-Flyer-Template-scaled.jpg
END:VEVENT
BEGIN:VEVENT
DTSTART;TZID=America/New_York:20260916T180000
DTEND;TZID=America/New_York:20260916T190000
DTSTAMP:20260420T041929
CREATED:20260216T201157Z
LAST-MODIFIED:20260216T201157Z
UID:10004927-1789581600-1789585200@stmatthewsufwbchurch.org
SUMMARY:Physical Fitness Training Classes
DESCRIPTION:
URL:https://stmatthewsufwbchurch.org/event/physical-fitness-training-classes-2/2026-09-16
LOCATION:R.J. Gay Building\, 388 Dixwell Ave.\, New Haven\, CT\, 06511\, United States
ATTACH;FMTTYPE=image/jpeg:https://stmatthewsufwbchurch.org/wp-content/uploads/2024/05/Fitness-Flyer-Template-scaled.jpg
END:VEVENT
BEGIN:VEVENT
DTSTART;TZID=America/New_York:20260921T180000
DTEND;TZID=America/New_York:20260921T190000
DTSTAMP:20260420T041929
CREATED:20260216T201157Z
LAST-MODIFIED:20260216T201157Z
UID:10002620-1790013600-1790017200@stmatthewsufwbchurch.org
SUMMARY:Physical Fitness Training Classes
DESCRIPTION:
URL:https://stmatthewsufwbchurch.org/event/physical-fitness-training-classes-2/2026-09-21
LOCATION:R.J. Gay Building\, 388 Dixwell Ave.\, New Haven\, CT\, 06511\, United States
ATTACH;FMTTYPE=image/jpeg:https://stmatthewsufwbchurch.org/wp-content/uploads/2024/05/Fitness-Flyer-Template-scaled.jpg
END:VEVENT
BEGIN:VEVENT
DTSTART;TZID=America/New_York:20260923T180000
DTEND;TZID=America/New_York:20260923T190000
DTSTAMP:20260420T041929
CREATED:20260216T201157Z
LAST-MODIFIED:20260216T201157Z
UID:10004928-1790186400-1790190000@stmatthewsufwbchurch.org
SUMMARY:Physical Fitness Training Classes
DESCRIPTION:
URL:https://stmatthewsufwbchurch.org/event/physical-fitness-training-classes-2/2026-09-23
LOCATION:R.J. Gay Building\, 388 Dixwell Ave.\, New Haven\, CT\, 06511\, United States
ATTACH;FMTTYPE=image/jpeg:https://stmatthewsufwbchurch.org/wp-content/uploads/2024/05/Fitness-Flyer-Template-scaled.jpg
END:VEVENT
BEGIN:VEVENT
DTSTART;TZID=America/New_York:20260928T180000
DTEND;TZID=America/New_York:20260928T190000
DTSTAMP:20260420T041929
CREATED:20260216T201157Z
LAST-MODIFIED:20260216T201157Z
UID:10002622-1790618400-1790622000@stmatthewsufwbchurch.org
SUMMARY:Physical Fitness Training Classes
DESCRIPTION:
URL:https://stmatthewsufwbchurch.org/event/physical-fitness-training-classes-2/2026-09-28
LOCATION:R.J. Gay Building\, 388 Dixwell Ave.\, New Haven\, CT\, 06511\, United States
ATTACH;FMTTYPE=image/jpeg:https://stmatthewsufwbchurch.org/wp-content/uploads/2024/05/Fitness-Flyer-Template-scaled.jpg
END:VEVENT
BEGIN:VEVENT
DTSTART;TZID=America/New_York:20260930T180000
DTEND;TZID=America/New_York:20260930T190000
DTSTAMP:20260420T041929
CREATED:20260216T201157Z
LAST-MODIFIED:20260216T201157Z
UID:10004929-1790791200-1790794800@stmatthewsufwbchurch.org
SUMMARY:Physical Fitness Training Classes
DESCRIPTION:
URL:https://stmatthewsufwbchurch.org/event/physical-fitness-training-classes-2/2026-09-30
LOCATION:R.J. Gay Building\, 388 Dixwell Ave.\, New Haven\, CT\, 06511\, United States
ATTACH;FMTTYPE=image/jpeg:https://stmatthewsufwbchurch.org/wp-content/uploads/2024/05/Fitness-Flyer-Template-scaled.jpg
END:VEVENT
BEGIN:VEVENT
DTSTART;TZID=America/New_York:20261005T180000
DTEND;TZID=America/New_York:20261005T190000
DTSTAMP:20260420T041929
CREATED:20260216T201157Z
LAST-MODIFIED:20260216T201157Z
UID:10002624-1791223200-1791226800@stmatthewsufwbchurch.org
SUMMARY:Physical Fitness Training Classes
DESCRIPTION:
URL:https://stmatthewsufwbchurch.org/event/physical-fitness-training-classes-2/2026-10-05
LOCATION:R.J. Gay Building\, 388 Dixwell Ave.\, New Haven\, CT\, 06511\, United States
ATTACH;FMTTYPE=image/jpeg:https://stmatthewsufwbchurch.org/wp-content/uploads/2024/05/Fitness-Flyer-Template-scaled.jpg
END:VEVENT
BEGIN:VEVENT
DTSTART;TZID=America/New_York:20261007T180000
DTEND;TZID=America/New_York:20261007T190000
DTSTAMP:20260420T041929
CREATED:20260216T201157Z
LAST-MODIFIED:20260216T201157Z
UID:10004930-1791396000-1791399600@stmatthewsufwbchurch.org
SUMMARY:Physical Fitness Training Classes
DESCRIPTION:
URL:https://stmatthewsufwbchurch.org/event/physical-fitness-training-classes-2/2026-10-07
LOCATION:R.J. Gay Building\, 388 Dixwell Ave.\, New Haven\, CT\, 06511\, United States
ATTACH;FMTTYPE=image/jpeg:https://stmatthewsufwbchurch.org/wp-content/uploads/2024/05/Fitness-Flyer-Template-scaled.jpg
END:VEVENT
BEGIN:VEVENT
DTSTART;TZID=America/New_York:20261012T180000
DTEND;TZID=America/New_York:20261012T190000
DTSTAMP:20260420T041929
CREATED:20260216T201157Z
LAST-MODIFIED:20260216T201157Z
UID:10002626-1791828000-1791831600@stmatthewsufwbchurch.org
SUMMARY:Physical Fitness Training Classes
DESCRIPTION:
URL:https://stmatthewsufwbchurch.org/event/physical-fitness-training-classes-2/2026-10-12
LOCATION:R.J. Gay Building\, 388 Dixwell Ave.\, New Haven\, CT\, 06511\, United States
ATTACH;FMTTYPE=image/jpeg:https://stmatthewsufwbchurch.org/wp-content/uploads/2024/05/Fitness-Flyer-Template-scaled.jpg
END:VEVENT
BEGIN:VEVENT
DTSTART;TZID=America/New_York:20261014T180000
DTEND;TZID=America/New_York:20261014T190000
DTSTAMP:20260420T041929
CREATED:20260216T201157Z
LAST-MODIFIED:20260216T201157Z
UID:10004931-1792000800-1792004400@stmatthewsufwbchurch.org
SUMMARY:Physical Fitness Training Classes
DESCRIPTION:
URL:https://stmatthewsufwbchurch.org/event/physical-fitness-training-classes-2/2026-10-14
LOCATION:R.J. Gay Building\, 388 Dixwell Ave.\, New Haven\, CT\, 06511\, United States
ATTACH;FMTTYPE=image/jpeg:https://stmatthewsufwbchurch.org/wp-content/uploads/2024/05/Fitness-Flyer-Template-scaled.jpg
END:VEVENT
BEGIN:VEVENT
DTSTART;TZID=America/New_York:20261019T180000
DTEND;TZID=America/New_York:20261019T190000
DTSTAMP:20260420T041929
CREATED:20260216T201157Z
LAST-MODIFIED:20260216T201157Z
UID:10002628-1792432800-1792436400@stmatthewsufwbchurch.org
SUMMARY:Physical Fitness Training Classes
DESCRIPTION:
URL:https://stmatthewsufwbchurch.org/event/physical-fitness-training-classes-2/2026-10-19
LOCATION:R.J. Gay Building\, 388 Dixwell Ave.\, New Haven\, CT\, 06511\, United States
ATTACH;FMTTYPE=image/jpeg:https://stmatthewsufwbchurch.org/wp-content/uploads/2024/05/Fitness-Flyer-Template-scaled.jpg
END:VEVENT
BEGIN:VEVENT
DTSTART;TZID=America/New_York:20261021T180000
DTEND;TZID=America/New_York:20261021T190000
DTSTAMP:20260420T041929
CREATED:20260216T201157Z
LAST-MODIFIED:20260216T201157Z
UID:10004932-1792605600-1792609200@stmatthewsufwbchurch.org
SUMMARY:Physical Fitness Training Classes
DESCRIPTION:
URL:https://stmatthewsufwbchurch.org/event/physical-fitness-training-classes-2/2026-10-21
LOCATION:R.J. Gay Building\, 388 Dixwell Ave.\, New Haven\, CT\, 06511\, United States
ATTACH;FMTTYPE=image/jpeg:https://stmatthewsufwbchurch.org/wp-content/uploads/2024/05/Fitness-Flyer-Template-scaled.jpg
END:VEVENT
BEGIN:VEVENT
DTSTART;TZID=America/New_York:20261026T180000
DTEND;TZID=America/New_York:20261026T190000
DTSTAMP:20260420T041929
CREATED:20260216T201157Z
LAST-MODIFIED:20260216T201157Z
UID:10002630-1793037600-1793041200@stmatthewsufwbchurch.org
SUMMARY:Physical Fitness Training Classes
DESCRIPTION:
URL:https://stmatthewsufwbchurch.org/event/physical-fitness-training-classes-2/2026-10-26
LOCATION:R.J. Gay Building\, 388 Dixwell Ave.\, New Haven\, CT\, 06511\, United States
ATTACH;FMTTYPE=image/jpeg:https://stmatthewsufwbchurch.org/wp-content/uploads/2024/05/Fitness-Flyer-Template-scaled.jpg
END:VEVENT
BEGIN:VEVENT
DTSTART;TZID=America/New_York:20261028T180000
DTEND;TZID=America/New_York:20261028T190000
DTSTAMP:20260420T041929
CREATED:20260216T201157Z
LAST-MODIFIED:20260216T201157Z
UID:10004933-1793210400-1793214000@stmatthewsufwbchurch.org
SUMMARY:Physical Fitness Training Classes
DESCRIPTION:
URL:https://stmatthewsufwbchurch.org/event/physical-fitness-training-classes-2/2026-10-28
LOCATION:R.J. Gay Building\, 388 Dixwell Ave.\, New Haven\, CT\, 06511\, United States
ATTACH;FMTTYPE=image/jpeg:https://stmatthewsufwbchurch.org/wp-content/uploads/2024/05/Fitness-Flyer-Template-scaled.jpg
END:VEVENT
BEGIN:VEVENT
DTSTART;TZID=America/New_York:20261102T180000
DTEND;TZID=America/New_York:20261102T190000
DTSTAMP:20260420T041929
CREATED:20260216T201157Z
LAST-MODIFIED:20260216T201157Z
UID:10002632-1793642400-1793646000@stmatthewsufwbchurch.org
SUMMARY:Physical Fitness Training Classes
DESCRIPTION:
URL:https://stmatthewsufwbchurch.org/event/physical-fitness-training-classes-2/2026-11-02
LOCATION:R.J. Gay Building\, 388 Dixwell Ave.\, New Haven\, CT\, 06511\, United States
ATTACH;FMTTYPE=image/jpeg:https://stmatthewsufwbchurch.org/wp-content/uploads/2024/05/Fitness-Flyer-Template-scaled.jpg
END:VEVENT
BEGIN:VEVENT
DTSTART;TZID=America/New_York:20261104T180000
DTEND;TZID=America/New_York:20261104T190000
DTSTAMP:20260420T041929
CREATED:20260216T201157Z
LAST-MODIFIED:20260216T201157Z
UID:10004934-1793815200-1793818800@stmatthewsufwbchurch.org
SUMMARY:Physical Fitness Training Classes
DESCRIPTION:
URL:https://stmatthewsufwbchurch.org/event/physical-fitness-training-classes-2/2026-11-04
LOCATION:R.J. Gay Building\, 388 Dixwell Ave.\, New Haven\, CT\, 06511\, United States
ATTACH;FMTTYPE=image/jpeg:https://stmatthewsufwbchurch.org/wp-content/uploads/2024/05/Fitness-Flyer-Template-scaled.jpg
END:VEVENT
BEGIN:VEVENT
DTSTART;TZID=America/New_York:20261109T180000
DTEND;TZID=America/New_York:20261109T190000
DTSTAMP:20260420T041929
CREATED:20260216T201157Z
LAST-MODIFIED:20260216T201157Z
UID:10002634-1794247200-1794250800@stmatthewsufwbchurch.org
SUMMARY:Physical Fitness Training Classes
DESCRIPTION:
URL:https://stmatthewsufwbchurch.org/event/physical-fitness-training-classes-2/2026-11-09
LOCATION:R.J. Gay Building\, 388 Dixwell Ave.\, New Haven\, CT\, 06511\, United States
ATTACH;FMTTYPE=image/jpeg:https://stmatthewsufwbchurch.org/wp-content/uploads/2024/05/Fitness-Flyer-Template-scaled.jpg
END:VEVENT
BEGIN:VEVENT
DTSTART;TZID=America/New_York:20261111T180000
DTEND;TZID=America/New_York:20261111T190000
DTSTAMP:20260420T041929
CREATED:20260216T201157Z
LAST-MODIFIED:20260216T201157Z
UID:10004935-1794420000-1794423600@stmatthewsufwbchurch.org
SUMMARY:Physical Fitness Training Classes
DESCRIPTION:
URL:https://stmatthewsufwbchurch.org/event/physical-fitness-training-classes-2/2026-11-11
LOCATION:R.J. Gay Building\, 388 Dixwell Ave.\, New Haven\, CT\, 06511\, United States
ATTACH;FMTTYPE=image/jpeg:https://stmatthewsufwbchurch.org/wp-content/uploads/2024/05/Fitness-Flyer-Template-scaled.jpg
END:VEVENT
BEGIN:VEVENT
DTSTART;TZID=America/New_York:20261116T180000
DTEND;TZID=America/New_York:20261116T190000
DTSTAMP:20260420T041929
CREATED:20260216T201157Z
LAST-MODIFIED:20260216T201157Z
UID:10002636-1794852000-1794855600@stmatthewsufwbchurch.org
SUMMARY:Physical Fitness Training Classes
DESCRIPTION:
URL:https://stmatthewsufwbchurch.org/event/physical-fitness-training-classes-2/2026-11-16
LOCATION:R.J. Gay Building\, 388 Dixwell Ave.\, New Haven\, CT\, 06511\, United States
ATTACH;FMTTYPE=image/jpeg:https://stmatthewsufwbchurch.org/wp-content/uploads/2024/05/Fitness-Flyer-Template-scaled.jpg
END:VEVENT
BEGIN:VEVENT
DTSTART;TZID=America/New_York:20261118T180000
DTEND;TZID=America/New_York:20261118T190000
DTSTAMP:20260420T041929
CREATED:20260216T201157Z
LAST-MODIFIED:20260216T201157Z
UID:10004936-1795024800-1795028400@stmatthewsufwbchurch.org
SUMMARY:Physical Fitness Training Classes
DESCRIPTION:
URL:https://stmatthewsufwbchurch.org/event/physical-fitness-training-classes-2/2026-11-18
LOCATION:R.J. Gay Building\, 388 Dixwell Ave.\, New Haven\, CT\, 06511\, United States
ATTACH;FMTTYPE=image/jpeg:https://stmatthewsufwbchurch.org/wp-content/uploads/2024/05/Fitness-Flyer-Template-scaled.jpg
END:VEVENT
BEGIN:VEVENT
DTSTART;TZID=America/New_York:20261123T180000
DTEND;TZID=America/New_York:20261123T190000
DTSTAMP:20260420T041929
CREATED:20260216T201157Z
LAST-MODIFIED:20260216T201157Z
UID:10002638-1795456800-1795460400@stmatthewsufwbchurch.org
SUMMARY:Physical Fitness Training Classes
DESCRIPTION:
URL:https://stmatthewsufwbchurch.org/event/physical-fitness-training-classes-2/2026-11-23
LOCATION:R.J. Gay Building\, 388 Dixwell Ave.\, New Haven\, CT\, 06511\, United States
ATTACH;FMTTYPE=image/jpeg:https://stmatthewsufwbchurch.org/wp-content/uploads/2024/05/Fitness-Flyer-Template-scaled.jpg
END:VEVENT
BEGIN:VEVENT
DTSTART;TZID=America/New_York:20261125T180000
DTEND;TZID=America/New_York:20261125T190000
DTSTAMP:20260420T041929
CREATED:20260216T201157Z
LAST-MODIFIED:20260216T201157Z
UID:10004937-1795629600-1795633200@stmatthewsufwbchurch.org
SUMMARY:Physical Fitness Training Classes
DESCRIPTION:
URL:https://stmatthewsufwbchurch.org/event/physical-fitness-training-classes-2/2026-11-25
LOCATION:R.J. Gay Building\, 388 Dixwell Ave.\, New Haven\, CT\, 06511\, United States
ATTACH;FMTTYPE=image/jpeg:https://stmatthewsufwbchurch.org/wp-content/uploads/2024/05/Fitness-Flyer-Template-scaled.jpg
END:VEVENT
BEGIN:VEVENT
DTSTART;TZID=America/New_York:20261130T180000
DTEND;TZID=America/New_York:20261130T190000
DTSTAMP:20260420T041929
CREATED:20260216T201157Z
LAST-MODIFIED:20260216T201157Z
UID:10002640-1796061600-1796065200@stmatthewsufwbchurch.org
SUMMARY:Physical Fitness Training Classes
DESCRIPTION:
URL:https://stmatthewsufwbchurch.org/event/physical-fitness-training-classes-2/2026-11-30
LOCATION:R.J. Gay Building\, 388 Dixwell Ave.\, New Haven\, CT\, 06511\, United States
ATTACH;FMTTYPE=image/jpeg:https://stmatthewsufwbchurch.org/wp-content/uploads/2024/05/Fitness-Flyer-Template-scaled.jpg
END:VEVENT
BEGIN:VEVENT
DTSTART;TZID=America/New_York:20261202T180000
DTEND;TZID=America/New_York:20261202T190000
DTSTAMP:20260420T041929
CREATED:20260216T201157Z
LAST-MODIFIED:20260216T201157Z
UID:10004938-1796234400-1796238000@stmatthewsufwbchurch.org
SUMMARY:Physical Fitness Training Classes
DESCRIPTION:
URL:https://stmatthewsufwbchurch.org/event/physical-fitness-training-classes-2/2026-12-02
LOCATION:R.J. Gay Building\, 388 Dixwell Ave.\, New Haven\, CT\, 06511\, United States
ATTACH;FMTTYPE=image/jpeg:https://stmatthewsufwbchurch.org/wp-content/uploads/2024/05/Fitness-Flyer-Template-scaled.jpg
END:VEVENT
BEGIN:VEVENT
DTSTART;TZID=America/New_York:20261207T180000
DTEND;TZID=America/New_York:20261207T190000
DTSTAMP:20260420T041929
CREATED:20260216T201157Z
LAST-MODIFIED:20260216T201157Z
UID:10002642-1796666400-1796670000@stmatthewsufwbchurch.org
SUMMARY:Physical Fitness Training Classes
DESCRIPTION:
URL:https://stmatthewsufwbchurch.org/event/physical-fitness-training-classes-2/2026-12-07
LOCATION:R.J. Gay Building\, 388 Dixwell Ave.\, New Haven\, CT\, 06511\, United States
ATTACH;FMTTYPE=image/jpeg:https://stmatthewsufwbchurch.org/wp-content/uploads/2024/05/Fitness-Flyer-Template-scaled.jpg
END:VEVENT
BEGIN:VEVENT
DTSTART;TZID=America/New_York:20261209T180000
DTEND;TZID=America/New_York:20261209T190000
DTSTAMP:20260420T041929
CREATED:20260216T201157Z
LAST-MODIFIED:20260216T201157Z
UID:10004939-1796839200-1796842800@stmatthewsufwbchurch.org
SUMMARY:Physical Fitness Training Classes
DESCRIPTION:
URL:https://stmatthewsufwbchurch.org/event/physical-fitness-training-classes-2/2026-12-09
LOCATION:R.J. Gay Building\, 388 Dixwell Ave.\, New Haven\, CT\, 06511\, United States
ATTACH;FMTTYPE=image/jpeg:https://stmatthewsufwbchurch.org/wp-content/uploads/2024/05/Fitness-Flyer-Template-scaled.jpg
END:VEVENT
BEGIN:VEVENT
DTSTART;TZID=America/New_York:20261214T180000
DTEND;TZID=America/New_York:20261214T190000
DTSTAMP:20260420T041929
CREATED:20260216T201157Z
LAST-MODIFIED:20260216T201157Z
UID:10002644-1797271200-1797274800@stmatthewsufwbchurch.org
SUMMARY:Physical Fitness Training Classes
DESCRIPTION:
URL:https://stmatthewsufwbchurch.org/event/physical-fitness-training-classes-2/2026-12-14
LOCATION:R.J. Gay Building\, 388 Dixwell Ave.\, New Haven\, CT\, 06511\, United States
ATTACH;FMTTYPE=image/jpeg:https://stmatthewsufwbchurch.org/wp-content/uploads/2024/05/Fitness-Flyer-Template-scaled.jpg
END:VEVENT
BEGIN:VEVENT
DTSTART;TZID=America/New_York:20261216T180000
DTEND;TZID=America/New_York:20261216T190000
DTSTAMP:20260420T041929
CREATED:20260216T201157Z
LAST-MODIFIED:20260216T201157Z
UID:10004940-1797444000-1797447600@stmatthewsufwbchurch.org
SUMMARY:Physical Fitness Training Classes
DESCRIPTION:
URL:https://stmatthewsufwbchurch.org/event/physical-fitness-training-classes-2/2026-12-16
LOCATION:R.J. Gay Building\, 388 Dixwell Ave.\, New Haven\, CT\, 06511\, United States
ATTACH;FMTTYPE=image/jpeg:https://stmatthewsufwbchurch.org/wp-content/uploads/2024/05/Fitness-Flyer-Template-scaled.jpg
END:VEVENT
END:VCALENDAR