BEGIN:VCALENDAR
VERSION:2.0
PRODID:-//stmatthewsufwbchurch - ECPv6.3.6//NONSGML v1.0//EN
CALSCALE:GREGORIAN
METHOD:PUBLISH
X-WR-CALNAME:stmatthewsufwbchurch
X-ORIGINAL-URL:https://stmatthewsufwbchurch.org
X-WR-CALDESC:Events for stmatthewsufwbchurch
REFRESH-INTERVAL;VALUE=DURATION:PT1H
X-Robots-Tag:noindex
X-PUBLISHED-TTL:PT1H
BEGIN:VTIMEZONE
TZID:America/New_York
BEGIN:DAYLIGHT
TZOFFSETFROM:-0500
TZOFFSETTO:-0400
TZNAME:EDT
DTSTART:20240310T070000
END:DAYLIGHT
BEGIN:STANDARD
TZOFFSETFROM:-0400
TZOFFSETTO:-0500
TZNAME:EST
DTSTART:20241103T060000
END:STANDARD
END:VTIMEZONE
BEGIN:VEVENT
DTSTART;TZID=America/New_York:20240923T180000
DTEND;TZID=America/New_York:20240923T190000
DTSTAMP:20260423T044724
CREATED:20240525T155224Z
LAST-MODIFIED:20250216T004802Z
UID:10002412-1727114400-1727118000@stmatthewsufwbchurch.org
SUMMARY:Physical Fitness Training Classes
DESCRIPTION:
URL:https://stmatthewsufwbchurch.org/event/physical-fitness-training-classes/2024-09-23
LOCATION:R.J. Gay Building\, 388 Dixwell Ave.\, New Haven\, CT\, 06511\, United States
ATTACH;FMTTYPE=image/jpeg:https://stmatthewsufwbchurch.org/wp-content/uploads/2024/05/Fitness-Flyer-Template-scaled.jpg
END:VEVENT
BEGIN:VEVENT
DTSTART;TZID=America/New_York:20240922T100000
DTEND;TZID=America/New_York:20240922T120000
DTSTAMP:20260423T044724
CREATED:20240522T201020Z
LAST-MODIFIED:20260216T201747Z
UID:10001276-1726999200-1727006400@stmatthewsufwbchurch.org
SUMMARY:Sunday Morning Worship Service
DESCRIPTION:https://stmatthewsufwbchurch.org/wp-content/uploads/2024/05/welcome-to-church-Dec.mp4\nJoin Us Every Sunday\nPastor Kevin C. Hardy \nLive or Via Zoom Online \nZoom;\nID: 779 777 579\nPass: 260588
URL:https://stmatthewsufwbchurch.org/event/sunday-morning-worship-service/2024-09-22
LOCATION:St Matthew’s U.F.W.B. Church\, 400 Dixwell Ave.\, New Haven\, CT\, 06511\, United States
ATTACH;FMTTYPE=image/jpeg:https://stmatthewsufwbchurch.org/wp-content/uploads/2024/05/CHURCH-WELCOME-FEBRUARY-1.jpg
END:VEVENT
BEGIN:VEVENT
DTSTART;TZID=America/New_York:20240922T100000
DTEND;TZID=America/New_York:20240922T113000
DTSTAMP:20260423T044724
CREATED:20240522T201909Z
LAST-MODIFIED:20240522T201909Z
UID:10001810-1726999200-1727004600@stmatthewsufwbchurch.org
SUMMARY:Youth Church St. Matthew's Youth Department
DESCRIPTION:
URL:https://stmatthewsufwbchurch.org/event/youth-church-st-matthews-youth-department/2024-09-22
LOCATION:St Matthew’s U.F.W.B. Church\, 400 Dixwell Ave.\, New Haven\, CT\, 06511\, United States
ATTACH;FMTTYPE=image/jpeg:https://stmatthewsufwbchurch.org/wp-content/uploads/2024/05/3-children-bible-study-flyer-scaled.jpg
END:VEVENT
BEGIN:VEVENT
DTSTART;TZID=America/New_York:20240922T084500
DTEND;TZID=America/New_York:20240922T094500
DTSTAMP:20260423T044724
CREATED:20240302T172200Z
LAST-MODIFIED:20240522T201645Z
UID:10001549-1726994700-1726998300@stmatthewsufwbchurch.org
SUMMARY:New Members Class
DESCRIPTION:New Members Class – Sundays 9:00 am\n\n\n\nIN-PERSON ONLY
URL:https://stmatthewsufwbchurch.org/event/new-members-class-2/2024-09-22
LOCATION:St Matthew’s U.F.W.B. Church\, 400 Dixwell Ave.\, New Haven\, CT\, 06511\, United States
ATTACH;FMTTYPE=image/jpeg:https://stmatthewsufwbchurch.org/wp-content/uploads/2024/03/3-New-Members-Class-scaled.jpg
END:VEVENT
BEGIN:VEVENT
DTSTART;TZID=America/New_York:20240919T180000
DTEND;TZID=America/New_York:20240919T190000
DTSTAMP:20260423T044724
CREATED:20240525T155224Z
LAST-MODIFIED:20250216T004802Z
UID:10002411-1726768800-1726772400@stmatthewsufwbchurch.org
SUMMARY:Physical Fitness Training Classes
DESCRIPTION:
URL:https://stmatthewsufwbchurch.org/event/physical-fitness-training-classes/2024-09-19
LOCATION:R.J. Gay Building\, 388 Dixwell Ave.\, New Haven\, CT\, 06511\, United States
ATTACH;FMTTYPE=image/jpeg:https://stmatthewsufwbchurch.org/wp-content/uploads/2024/05/Fitness-Flyer-Template-scaled.jpg
END:VEVENT
BEGIN:VEVENT
DTSTART;TZID=America/New_York:20240918T180000
DTEND;TZID=America/New_York:20240918T200000
DTSTAMP:20260423T044724
CREATED:20240314T191927Z
LAST-MODIFIED:20240314T191927Z
UID:10001020-1726682400-1726689600@stmatthewsufwbchurch.org
SUMMARY:Men's Choir
DESCRIPTION:
URL:https://stmatthewsufwbchurch.org/event/mens-choir/2024-09-18
LOCATION:CT
ATTACH;FMTTYPE=image/jpeg:https://stmatthewsufwbchurch.org/wp-content/uploads/2024/03/15-MENS-CHOIR-scaled.jpg
END:VEVENT
BEGIN:VEVENT
DTSTART;TZID=America/New_York:20240917T183000
DTEND;TZID=America/New_York:20240917T200000
DTSTAMP:20260423T044724
CREATED:20240314T190957Z
LAST-MODIFIED:20250202T014654Z
UID:10000697-1726597800-1726603200@stmatthewsufwbchurch.org
SUMMARY:Bible Study
DESCRIPTION:Zoom Online\nID: 779 777 579\nPass: 260588
URL:https://stmatthewsufwbchurch.org/event/412/2024-09-17
LOCATION:St Matthew’s U.F.W.B. Church\, 400 Dixwell Ave.\, New Haven\, CT\, 06511\, United States
ATTACH;FMTTYPE=image/jpeg:https://stmatthewsufwbchurch.org/wp-content/uploads/2024/05/Bible-study.jpg
END:VEVENT
BEGIN:VEVENT
DTSTART;VALUE=DATE:20240917
DTEND;VALUE=DATE:20240918
DTSTAMP:20260423T044724
CREATED:20240314T191748Z
LAST-MODIFIED:20240525T160452Z
UID:10000757-1726531200-1726617599@stmatthewsufwbchurch.org
SUMMARY:Unity Choir Rehearsal
DESCRIPTION:
URL:https://stmatthewsufwbchurch.org/event/unity-chior-rehearsal/2024-09-17
LOCATION:St Matthew’s U.F.W.B. Church\, 400 Dixwell Ave.\, New Haven\, CT\, 06511\, United States
ATTACH;FMTTYPE=image/jpeg:https://stmatthewsufwbchurch.org/wp-content/uploads/2024/03/14-UNITY-CHOIR.jpg
END:VEVENT
BEGIN:VEVENT
DTSTART;TZID=America/New_York:20240916T180000
DTEND;TZID=America/New_York:20240916T190000
DTSTAMP:20260423T044724
CREATED:20240525T155224Z
LAST-MODIFIED:20250216T004802Z
UID:10002410-1726509600-1726513200@stmatthewsufwbchurch.org
SUMMARY:Physical Fitness Training Classes
DESCRIPTION:
URL:https://stmatthewsufwbchurch.org/event/physical-fitness-training-classes/2024-09-16
LOCATION:R.J. Gay Building\, 388 Dixwell Ave.\, New Haven\, CT\, 06511\, United States
ATTACH;FMTTYPE=image/jpeg:https://stmatthewsufwbchurch.org/wp-content/uploads/2024/05/Fitness-Flyer-Template-scaled.jpg
END:VEVENT
BEGIN:VEVENT
DTSTART;TZID=America/New_York:20240915T100000
DTEND;TZID=America/New_York:20240915T120000
DTSTAMP:20260423T044724
CREATED:20240522T201020Z
LAST-MODIFIED:20260216T201747Z
UID:10001275-1726394400-1726401600@stmatthewsufwbchurch.org
SUMMARY:Sunday Morning Worship Service
DESCRIPTION:https://stmatthewsufwbchurch.org/wp-content/uploads/2024/05/welcome-to-church-Dec.mp4\nJoin Us Every Sunday\nPastor Kevin C. Hardy \nLive or Via Zoom Online \nZoom;\nID: 779 777 579\nPass: 260588
URL:https://stmatthewsufwbchurch.org/event/sunday-morning-worship-service/2024-09-15
LOCATION:St Matthew’s U.F.W.B. Church\, 400 Dixwell Ave.\, New Haven\, CT\, 06511\, United States
ATTACH;FMTTYPE=image/jpeg:https://stmatthewsufwbchurch.org/wp-content/uploads/2024/05/CHURCH-WELCOME-FEBRUARY-1.jpg
END:VEVENT
BEGIN:VEVENT
DTSTART;TZID=America/New_York:20240915T100000
DTEND;TZID=America/New_York:20240915T113000
DTSTAMP:20260423T044725
CREATED:20240522T201909Z
LAST-MODIFIED:20240522T201909Z
UID:10001809-1726394400-1726399800@stmatthewsufwbchurch.org
SUMMARY:Youth Church St. Matthew's Youth Department
DESCRIPTION:
URL:https://stmatthewsufwbchurch.org/event/youth-church-st-matthews-youth-department/2024-09-15
LOCATION:St Matthew’s U.F.W.B. Church\, 400 Dixwell Ave.\, New Haven\, CT\, 06511\, United States
ATTACH;FMTTYPE=image/jpeg:https://stmatthewsufwbchurch.org/wp-content/uploads/2024/05/3-children-bible-study-flyer-scaled.jpg
END:VEVENT
BEGIN:VEVENT
DTSTART;TZID=America/New_York:20240915T084500
DTEND;TZID=America/New_York:20240915T094500
DTSTAMP:20260423T044725
CREATED:20240302T172200Z
LAST-MODIFIED:20240522T201645Z
UID:10001548-1726389900-1726393500@stmatthewsufwbchurch.org
SUMMARY:New Members Class
DESCRIPTION:New Members Class – Sundays 9:00 am\n\n\n\nIN-PERSON ONLY
URL:https://stmatthewsufwbchurch.org/event/new-members-class-2/2024-09-15
LOCATION:St Matthew’s U.F.W.B. Church\, 400 Dixwell Ave.\, New Haven\, CT\, 06511\, United States
ATTACH;FMTTYPE=image/jpeg:https://stmatthewsufwbchurch.org/wp-content/uploads/2024/03/3-New-Members-Class-scaled.jpg
END:VEVENT
BEGIN:VEVENT
DTSTART;TZID=America/New_York:20240914T080000
DTEND;TZID=America/New_York:20240914T090000
DTSTAMP:20260423T044725
CREATED:20240206T211356Z
LAST-MODIFIED:20250108T233534Z
UID:10002060-1726300800-1726304400@stmatthewsufwbchurch.org
SUMMARY:Food Pantry Distribution
DESCRIPTION:
URL:https://stmatthewsufwbchurch.org/event/food-pantry-distribution/2024-09-14
LOCATION:R.J. Gay Building\, 388 Dixwell Ave.\, New Haven\, CT\, 06511\, United States
ATTACH;FMTTYPE=image/jpeg:https://stmatthewsufwbchurch.org/wp-content/uploads/2024/02/Food-Distro-Social-Flyer-scaled.jpg
END:VEVENT
BEGIN:VEVENT
DTSTART;TZID=America/New_York:20240912T180000
DTEND;TZID=America/New_York:20240912T190000
DTSTAMP:20260423T044725
CREATED:20240525T155224Z
LAST-MODIFIED:20250216T004802Z
UID:10002409-1726164000-1726167600@stmatthewsufwbchurch.org
SUMMARY:Physical Fitness Training Classes
DESCRIPTION:
URL:https://stmatthewsufwbchurch.org/event/physical-fitness-training-classes/2024-09-12
LOCATION:R.J. Gay Building\, 388 Dixwell Ave.\, New Haven\, CT\, 06511\, United States
ATTACH;FMTTYPE=image/jpeg:https://stmatthewsufwbchurch.org/wp-content/uploads/2024/05/Fitness-Flyer-Template-scaled.jpg
END:VEVENT
BEGIN:VEVENT
DTSTART;TZID=America/New_York:20240912T120000
DTEND;TZID=America/New_York:20240912T130000
DTSTAMP:20260423T044725
CREATED:20240207T210029Z
LAST-MODIFIED:20240302T173629Z
UID:10000604-1726142400-1726146000@stmatthewsufwbchurch.org
SUMMARY:Noon Day Bible Study
DESCRIPTION:
URL:https://stmatthewsufwbchurch.org/event/noon-day-bible-study/2024-09-12
LOCATION:CT
ATTACH;FMTTYPE=image/jpeg:https://stmatthewsufwbchurch.org/wp-content/uploads/2024/02/4-Bible-study.jpg
END:VEVENT
BEGIN:VEVENT
DTSTART;TZID=America/New_York:20240911T180000
DTEND;TZID=America/New_York:20240911T200000
DTSTAMP:20260423T044725
CREATED:20240314T191927Z
LAST-MODIFIED:20240314T191927Z
UID:10001019-1726077600-1726084800@stmatthewsufwbchurch.org
SUMMARY:Men's Choir
DESCRIPTION:
URL:https://stmatthewsufwbchurch.org/event/mens-choir/2024-09-11
LOCATION:CT
ATTACH;FMTTYPE=image/jpeg:https://stmatthewsufwbchurch.org/wp-content/uploads/2024/03/15-MENS-CHOIR-scaled.jpg
END:VEVENT
BEGIN:VEVENT
DTSTART;TZID=America/New_York:20240910T183000
DTEND;TZID=America/New_York:20240910T200000
DTSTAMP:20260423T044725
CREATED:20240314T190957Z
LAST-MODIFIED:20250202T014654Z
UID:10000696-1725993000-1725998400@stmatthewsufwbchurch.org
SUMMARY:Bible Study
DESCRIPTION:Zoom Online\nID: 779 777 579\nPass: 260588
URL:https://stmatthewsufwbchurch.org/event/412/2024-09-10
LOCATION:St Matthew’s U.F.W.B. Church\, 400 Dixwell Ave.\, New Haven\, CT\, 06511\, United States
ATTACH;FMTTYPE=image/jpeg:https://stmatthewsufwbchurch.org/wp-content/uploads/2024/05/Bible-study.jpg
END:VEVENT
BEGIN:VEVENT
DTSTART;VALUE=DATE:20240910
DTEND;VALUE=DATE:20240911
DTSTAMP:20260423T044725
CREATED:20240314T191748Z
LAST-MODIFIED:20240525T160452Z
UID:10000756-1725926400-1726012799@stmatthewsufwbchurch.org
SUMMARY:Unity Choir Rehearsal
DESCRIPTION:
URL:https://stmatthewsufwbchurch.org/event/unity-chior-rehearsal/2024-09-10
LOCATION:St Matthew’s U.F.W.B. Church\, 400 Dixwell Ave.\, New Haven\, CT\, 06511\, United States
ATTACH;FMTTYPE=image/jpeg:https://stmatthewsufwbchurch.org/wp-content/uploads/2024/03/14-UNITY-CHOIR.jpg
END:VEVENT
BEGIN:VEVENT
DTSTART;TZID=America/New_York:20240909T180000
DTEND;TZID=America/New_York:20240909T190000
DTSTAMP:20260423T044725
CREATED:20240525T155224Z
LAST-MODIFIED:20250216T004802Z
UID:10002408-1725904800-1725908400@stmatthewsufwbchurch.org
SUMMARY:Physical Fitness Training Classes
DESCRIPTION:
URL:https://stmatthewsufwbchurch.org/event/physical-fitness-training-classes/2024-09-09
LOCATION:R.J. Gay Building\, 388 Dixwell Ave.\, New Haven\, CT\, 06511\, United States
ATTACH;FMTTYPE=image/jpeg:https://stmatthewsufwbchurch.org/wp-content/uploads/2024/05/Fitness-Flyer-Template-scaled.jpg
END:VEVENT
BEGIN:VEVENT
DTSTART;TZID=America/New_York:20240908T100000
DTEND;TZID=America/New_York:20240908T120000
DTSTAMP:20260423T044725
CREATED:20240522T201020Z
LAST-MODIFIED:20260216T201747Z
UID:10001274-1725789600-1725796800@stmatthewsufwbchurch.org
SUMMARY:Sunday Morning Worship Service
DESCRIPTION:https://stmatthewsufwbchurch.org/wp-content/uploads/2024/05/welcome-to-church-Dec.mp4\nJoin Us Every Sunday\nPastor Kevin C. Hardy \nLive or Via Zoom Online \nZoom;\nID: 779 777 579\nPass: 260588
URL:https://stmatthewsufwbchurch.org/event/sunday-morning-worship-service/2024-09-08
LOCATION:St Matthew’s U.F.W.B. Church\, 400 Dixwell Ave.\, New Haven\, CT\, 06511\, United States
ATTACH;FMTTYPE=image/jpeg:https://stmatthewsufwbchurch.org/wp-content/uploads/2024/05/CHURCH-WELCOME-FEBRUARY-1.jpg
END:VEVENT
BEGIN:VEVENT
DTSTART;TZID=America/New_York:20240908T100000
DTEND;TZID=America/New_York:20240908T113000
DTSTAMP:20260423T044725
CREATED:20240522T201909Z
LAST-MODIFIED:20240522T201909Z
UID:10001808-1725789600-1725795000@stmatthewsufwbchurch.org
SUMMARY:Youth Church St. Matthew's Youth Department
DESCRIPTION:
URL:https://stmatthewsufwbchurch.org/event/youth-church-st-matthews-youth-department/2024-09-08
LOCATION:St Matthew’s U.F.W.B. Church\, 400 Dixwell Ave.\, New Haven\, CT\, 06511\, United States
ATTACH;FMTTYPE=image/jpeg:https://stmatthewsufwbchurch.org/wp-content/uploads/2024/05/3-children-bible-study-flyer-scaled.jpg
END:VEVENT
BEGIN:VEVENT
DTSTART;TZID=America/New_York:20240908T084500
DTEND;TZID=America/New_York:20240908T094500
DTSTAMP:20260423T044725
CREATED:20240302T172200Z
LAST-MODIFIED:20240522T201645Z
UID:10001547-1725785100-1725788700@stmatthewsufwbchurch.org
SUMMARY:New Members Class
DESCRIPTION:New Members Class – Sundays 9:00 am\n\n\n\nIN-PERSON ONLY
URL:https://stmatthewsufwbchurch.org/event/new-members-class-2/2024-09-08
LOCATION:St Matthew’s U.F.W.B. Church\, 400 Dixwell Ave.\, New Haven\, CT\, 06511\, United States
ATTACH;FMTTYPE=image/jpeg:https://stmatthewsufwbchurch.org/wp-content/uploads/2024/03/3-New-Members-Class-scaled.jpg
END:VEVENT
BEGIN:VEVENT
DTSTART;TZID=America/New_York:20240905T180000
DTEND;TZID=America/New_York:20240905T190000
DTSTAMP:20260423T044725
CREATED:20240525T155224Z
LAST-MODIFIED:20250216T004802Z
UID:10002407-1725559200-1725562800@stmatthewsufwbchurch.org
SUMMARY:Physical Fitness Training Classes
DESCRIPTION:
URL:https://stmatthewsufwbchurch.org/event/physical-fitness-training-classes/2024-09-05
LOCATION:R.J. Gay Building\, 388 Dixwell Ave.\, New Haven\, CT\, 06511\, United States
ATTACH;FMTTYPE=image/jpeg:https://stmatthewsufwbchurch.org/wp-content/uploads/2024/05/Fitness-Flyer-Template-scaled.jpg
END:VEVENT
BEGIN:VEVENT
DTSTART;TZID=America/New_York:20240904T180000
DTEND;TZID=America/New_York:20240904T200000
DTSTAMP:20260423T044725
CREATED:20240314T191927Z
LAST-MODIFIED:20240314T191927Z
UID:10001018-1725472800-1725480000@stmatthewsufwbchurch.org
SUMMARY:Men's Choir
DESCRIPTION:
URL:https://stmatthewsufwbchurch.org/event/mens-choir/2024-09-04
LOCATION:CT
ATTACH;FMTTYPE=image/jpeg:https://stmatthewsufwbchurch.org/wp-content/uploads/2024/03/15-MENS-CHOIR-scaled.jpg
END:VEVENT
BEGIN:VEVENT
DTSTART;TZID=America/New_York:20240903T183000
DTEND;TZID=America/New_York:20240903T200000
DTSTAMP:20260423T044725
CREATED:20240314T190957Z
LAST-MODIFIED:20250202T014654Z
UID:10000695-1725388200-1725393600@stmatthewsufwbchurch.org
SUMMARY:Bible Study
DESCRIPTION:Zoom Online\nID: 779 777 579\nPass: 260588
URL:https://stmatthewsufwbchurch.org/event/412/2024-09-03
LOCATION:St Matthew’s U.F.W.B. Church\, 400 Dixwell Ave.\, New Haven\, CT\, 06511\, United States
ATTACH;FMTTYPE=image/jpeg:https://stmatthewsufwbchurch.org/wp-content/uploads/2024/05/Bible-study.jpg
END:VEVENT
BEGIN:VEVENT
DTSTART;VALUE=DATE:20240903
DTEND;VALUE=DATE:20240904
DTSTAMP:20260423T044725
CREATED:20240314T191748Z
LAST-MODIFIED:20240525T160452Z
UID:10000755-1725321600-1725407999@stmatthewsufwbchurch.org
SUMMARY:Unity Choir Rehearsal
DESCRIPTION:
URL:https://stmatthewsufwbchurch.org/event/unity-chior-rehearsal/2024-09-03
LOCATION:St Matthew’s U.F.W.B. Church\, 400 Dixwell Ave.\, New Haven\, CT\, 06511\, United States
ATTACH;FMTTYPE=image/jpeg:https://stmatthewsufwbchurch.org/wp-content/uploads/2024/03/14-UNITY-CHOIR.jpg
END:VEVENT
BEGIN:VEVENT
DTSTART;TZID=America/New_York:20240902T180000
DTEND;TZID=America/New_York:20240902T190000
DTSTAMP:20260423T044725
CREATED:20240525T155224Z
LAST-MODIFIED:20250216T004802Z
UID:10002406-1725300000-1725303600@stmatthewsufwbchurch.org
SUMMARY:Physical Fitness Training Classes
DESCRIPTION:
URL:https://stmatthewsufwbchurch.org/event/physical-fitness-training-classes/2024-09-02
LOCATION:R.J. Gay Building\, 388 Dixwell Ave.\, New Haven\, CT\, 06511\, United States
ATTACH;FMTTYPE=image/jpeg:https://stmatthewsufwbchurch.org/wp-content/uploads/2024/05/Fitness-Flyer-Template-scaled.jpg
END:VEVENT
BEGIN:VEVENT
DTSTART;TZID=America/New_York:20240901T100000
DTEND;TZID=America/New_York:20240901T120000
DTSTAMP:20260423T044725
CREATED:20240522T201020Z
LAST-MODIFIED:20260216T201747Z
UID:10001273-1725184800-1725192000@stmatthewsufwbchurch.org
SUMMARY:Sunday Morning Worship Service
DESCRIPTION:https://stmatthewsufwbchurch.org/wp-content/uploads/2024/05/welcome-to-church-Dec.mp4\nJoin Us Every Sunday\nPastor Kevin C. Hardy \nLive or Via Zoom Online \nZoom;\nID: 779 777 579\nPass: 260588
URL:https://stmatthewsufwbchurch.org/event/sunday-morning-worship-service/2024-09-01
LOCATION:St Matthew’s U.F.W.B. Church\, 400 Dixwell Ave.\, New Haven\, CT\, 06511\, United States
ATTACH;FMTTYPE=image/jpeg:https://stmatthewsufwbchurch.org/wp-content/uploads/2024/05/CHURCH-WELCOME-FEBRUARY-1.jpg
END:VEVENT
BEGIN:VEVENT
DTSTART;TZID=America/New_York:20240901T100000
DTEND;TZID=America/New_York:20240901T113000
DTSTAMP:20260423T044725
CREATED:20240522T201909Z
LAST-MODIFIED:20240522T201909Z
UID:10001807-1725184800-1725190200@stmatthewsufwbchurch.org
SUMMARY:Youth Church St. Matthew's Youth Department
DESCRIPTION:
URL:https://stmatthewsufwbchurch.org/event/youth-church-st-matthews-youth-department/2024-09-01
LOCATION:St Matthew’s U.F.W.B. Church\, 400 Dixwell Ave.\, New Haven\, CT\, 06511\, United States
ATTACH;FMTTYPE=image/jpeg:https://stmatthewsufwbchurch.org/wp-content/uploads/2024/05/3-children-bible-study-flyer-scaled.jpg
END:VEVENT
BEGIN:VEVENT
DTSTART;TZID=America/New_York:20240901T084500
DTEND;TZID=America/New_York:20240901T094500
DTSTAMP:20260423T044725
CREATED:20240302T172200Z
LAST-MODIFIED:20240522T201645Z
UID:10001546-1725180300-1725183900@stmatthewsufwbchurch.org
SUMMARY:New Members Class
DESCRIPTION:New Members Class – Sundays 9:00 am\n\n\n\nIN-PERSON ONLY
URL:https://stmatthewsufwbchurch.org/event/new-members-class-2/2024-09-01
LOCATION:St Matthew’s U.F.W.B. Church\, 400 Dixwell Ave.\, New Haven\, CT\, 06511\, United States
ATTACH;FMTTYPE=image/jpeg:https://stmatthewsufwbchurch.org/wp-content/uploads/2024/03/3-New-Members-Class-scaled.jpg
END:VEVENT
END:VCALENDAR