BEGIN:VCALENDAR
VERSION:2.0
PRODID:-//stmatthewsufwbchurch - ECPv6.3.6//NONSGML v1.0//EN
CALSCALE:GREGORIAN
METHOD:PUBLISH
X-ORIGINAL-URL:https://stmatthewsufwbchurch.org
X-WR-CALDESC:Events for stmatthewsufwbchurch
REFRESH-INTERVAL;VALUE=DURATION:PT1H
X-Robots-Tag:noindex
X-PUBLISHED-TTL:PT1H
BEGIN:VTIMEZONE
TZID:America/New_York
BEGIN:DAYLIGHT
TZOFFSETFROM:-0500
TZOFFSETTO:-0400
TZNAME:EDT
DTSTART:20250309T070000
END:DAYLIGHT
BEGIN:STANDARD
TZOFFSETFROM:-0400
TZOFFSETTO:-0500
TZNAME:EST
DTSTART:20251102T060000
END:STANDARD
END:VTIMEZONE
BEGIN:VEVENT
DTSTART;VALUE=DATE:20250106
DTEND;VALUE=DATE:20250127
DTSTAMP:20260420T095421
CREATED:20250108T225907Z
LAST-MODIFIED:20250108T230458Z
UID:10002912-1736121600-1737935999@stmatthewsufwbchurch.org
SUMMARY:21 Day Consecration Booklet
DESCRIPTION:  \n\nClick here for the 21 Days of Fasting and Praying Booklet \n2025 Consecration – The Book of Acts
URL:https://stmatthewsufwbchurch.org/event/562
LOCATION:St Matthew’s U.F.W.B. Church\, 400 Dixwell Ave.\, New Haven\, CT\, 06511\, United States
ATTACH;FMTTYPE=image/jpeg:https://stmatthewsufwbchurch.org/wp-content/uploads/2025/01/Jan-2025-Consecration-21-Days-Fasting-Praying.jpg
END:VEVENT
BEGIN:VEVENT
DTSTART;VALUE=DATE:20250106
DTEND;VALUE=DATE:20250127
DTSTAMP:20260420T095421
CREATED:20250108T223945Z
LAST-MODIFIED:20250108T223945Z
UID:10002910-1736121600-1737935999@stmatthewsufwbchurch.org
SUMMARY:21 Days of Fasting & Prayers
DESCRIPTION:
URL:https://stmatthewsufwbchurch.org/event/21-days-of-fasting-prayers
LOCATION:St Matthew’s U.F.W.B. Church\, 400 Dixwell Ave.\, New Haven\, CT\, 06511\, United States
ATTACH;FMTTYPE=image/jpeg:https://stmatthewsufwbchurch.org/wp-content/uploads/2025/01/Church-fasting-and-prayer-program-scaled.jpg
END:VEVENT
END:VCALENDAR